BEGIN:VCALENDAR
VERSION:2.0
PRODID:-//arbl.fr - ECPv6.15.20//NONSGML v1.0//EN
CALSCALE:GREGORIAN
METHOD:PUBLISH
X-ORIGINAL-URL:https://arbl.fr
X-WR-CALDESC:Évènements pour arbl.fr
REFRESH-INTERVAL;VALUE=DURATION:PT1H
X-Robots-Tag:noindex
X-PUBLISHED-TTL:PT1H
BEGIN:VTIMEZONE
TZID:Europe/Paris
BEGIN:DAYLIGHT
TZOFFSETFROM:+0100
TZOFFSETTO:+0200
TZNAME:CEST
DTSTART:20230326T010000
END:DAYLIGHT
BEGIN:STANDARD
TZOFFSETFROM:+0200
TZOFFSETTO:+0100
TZNAME:CET
DTSTART:20231029T010000
END:STANDARD
BEGIN:DAYLIGHT
TZOFFSETFROM:+0100
TZOFFSETTO:+0200
TZNAME:CEST
DTSTART:20240331T010000
END:DAYLIGHT
BEGIN:STANDARD
TZOFFSETFROM:+0200
TZOFFSETTO:+0100
TZNAME:CET
DTSTART:20241027T010000
END:STANDARD
BEGIN:DAYLIGHT
TZOFFSETFROM:+0100
TZOFFSETTO:+0200
TZNAME:CEST
DTSTART:20250330T010000
END:DAYLIGHT
BEGIN:STANDARD
TZOFFSETFROM:+0200
TZOFFSETTO:+0100
TZNAME:CET
DTSTART:20251026T010000
END:STANDARD
END:VTIMEZONE
BEGIN:VEVENT
DTSTART;TZID=Europe/Paris:20240130T203000
DTEND;TZID=Europe/Paris:20240130T223000
DTSTAMP:20260426T052004
CREATED:20231130T080107Z
LAST-MODIFIED:20231130T080107Z
UID:3701-1706646600-1706653800@arbl.fr
SUMMARY:Réunion CA ARBL
DESCRIPTION:Réunion mensuelle CA ARBL \nOuverte aux adhérents\nTous les comptes-rendus de CA sont consultables dans l’espace adhérents
URL:https://arbl.fr/event/reunion-ca-arbl-4/
LOCATION:Village associatif du Patisseau\, 32 rue de l’Erdre\, Sainte Luce sur Loire\, Pays de la Loire\, 44980
ORGANIZER;CN="ARBL":MAILTO:bureau-arbl@laposte.net
END:VEVENT
END:VCALENDAR