BEGIN:VCALENDAR
VERSION:2.0
PRODID:-//arbl.fr - ECPv6.15.20//NONSGML v1.0//EN
CALSCALE:GREGORIAN
METHOD:PUBLISH
X-WR-CALNAME:arbl.fr
X-ORIGINAL-URL:https://arbl.fr
X-WR-CALDESC:Évènements pour arbl.fr
REFRESH-INTERVAL;VALUE=DURATION:PT1H
X-Robots-Tag:noindex
X-PUBLISHED-TTL:PT1H
BEGIN:VTIMEZONE
TZID:Europe/Paris
BEGIN:DAYLIGHT
TZOFFSETFROM:+0100
TZOFFSETTO:+0200
TZNAME:CEST
DTSTART:20230326T010000
END:DAYLIGHT
BEGIN:STANDARD
TZOFFSETFROM:+0200
TZOFFSETTO:+0100
TZNAME:CET
DTSTART:20231029T010000
END:STANDARD
BEGIN:DAYLIGHT
TZOFFSETFROM:+0100
TZOFFSETTO:+0200
TZNAME:CEST
DTSTART:20240331T010000
END:DAYLIGHT
BEGIN:STANDARD
TZOFFSETFROM:+0200
TZOFFSETTO:+0100
TZNAME:CET
DTSTART:20241027T010000
END:STANDARD
BEGIN:DAYLIGHT
TZOFFSETFROM:+0100
TZOFFSETTO:+0200
TZNAME:CEST
DTSTART:20250330T010000
END:DAYLIGHT
BEGIN:STANDARD
TZOFFSETFROM:+0200
TZOFFSETTO:+0100
TZNAME:CET
DTSTART:20251026T010000
END:STANDARD
END:VTIMEZONE
BEGIN:VEVENT
DTSTART;TZID=Europe/Paris:20240204T090000
DTEND;TZID=Europe/Paris:20240204T120000
DTSTAMP:20260426T051723
CREATED:20230605T124559Z
LAST-MODIFIED:20230605T124559Z
UID:3364-1707037200-1707048000@arbl.fr
SUMMARY:Bourse échange hiver ARBL n°9
DESCRIPTION:Bourse échange hiver ARBL n°9
URL:https://arbl.fr/event/bourse-echange-hiver-arbl-n9/
LOCATION:Salle Renée LOSQ\, Esplanade Pierre Brasselet\, 44980 Sainte Luce sur Loire\, 44980\, France
ORGANIZER;CN="ARBL":MAILTO:bureau-arbl@laposte.net
END:VEVENT
END:VCALENDAR