BEGIN:VCALENDAR
VERSION:2.0
PRODID:-//arbl.fr - ECPv6.15.20//NONSGML v1.0//EN
CALSCALE:GREGORIAN
METHOD:PUBLISH
X-WR-CALNAME:arbl.fr
X-ORIGINAL-URL:https://arbl.fr
X-WR-CALDESC:Évènements pour arbl.fr
REFRESH-INTERVAL;VALUE=DURATION:PT1H
X-Robots-Tag:noindex
X-PUBLISHED-TTL:PT1H
BEGIN:VTIMEZONE
TZID:Europe/Paris
BEGIN:DAYLIGHT
TZOFFSETFROM:+0100
TZOFFSETTO:+0200
TZNAME:CEST
DTSTART:20230326T010000
END:DAYLIGHT
BEGIN:STANDARD
TZOFFSETFROM:+0200
TZOFFSETTO:+0100
TZNAME:CET
DTSTART:20231029T010000
END:STANDARD
BEGIN:DAYLIGHT
TZOFFSETFROM:+0100
TZOFFSETTO:+0200
TZNAME:CEST
DTSTART:20240331T010000
END:DAYLIGHT
BEGIN:STANDARD
TZOFFSETFROM:+0200
TZOFFSETTO:+0100
TZNAME:CET
DTSTART:20241027T010000
END:STANDARD
BEGIN:DAYLIGHT
TZOFFSETFROM:+0100
TZOFFSETTO:+0200
TZNAME:CEST
DTSTART:20250330T010000
END:DAYLIGHT
BEGIN:STANDARD
TZOFFSETFROM:+0200
TZOFFSETTO:+0100
TZNAME:CET
DTSTART:20251026T010000
END:STANDARD
END:VTIMEZONE
BEGIN:VEVENT
DTSTART;TZID=Europe/Paris:20240504T090000
DTEND;TZID=Europe/Paris:20240504T120000
DTSTAMP:20260423T182118
CREATED:20240408T160802Z
LAST-MODIFIED:20240408T160802Z
UID:4045-1714813200-1714824000@arbl.fr
SUMMARY:ENTRETIEN TERRAIN
DESCRIPTION:Entretien Terrain sur le terrain de la Plée\nOrganisateur responsable: voir framadate
URL:https://arbl.fr/event/entretien-terrain-4/
LOCATION:Terrain de la Plée – Aéromodélisme\, Terrain de la Plée - Aéromodélisme\, Sainte Luce sur Loire\, Loire Atlantique\, 44980\, France
ORGANIZER;CN="ARBL":MAILTO:bureau-arbl@laposte.net
END:VEVENT
BEGIN:VEVENT
DTSTART;TZID=Europe/Paris:20240512T090000
DTEND;TZID=Europe/Paris:20240512T120000
DTSTAMP:20260423T182118
CREATED:20240408T161004Z
LAST-MODIFIED:20240507T072224Z
UID:4047-1715504400-1715515200@arbl.fr
SUMMARY:ENTRETIEN TERRAIN
DESCRIPTION:Entretien Terrain étang du Plessis\nOrganisateur responsable: voir framadate
URL:https://arbl.fr/event/entretien-terrain-5/
LOCATION:Plan d’eau du Plessis\, Plan d'eau du Plessis\, Sainte Luce sur Loire\, Loire Atlantique\, 44980\, France
ORGANIZER;CN="ARBL":MAILTO:bureau-arbl@laposte.net
END:VEVENT
BEGIN:VEVENT
DTSTART;TZID=Europe/Paris:20240517T090000
DTEND;TZID=Europe/Paris:20240517T120000
DTSTAMP:20260423T182118
CREATED:20240408T161141Z
LAST-MODIFIED:20240507T072114Z
UID:4049-1715936400-1715947200@arbl.fr
SUMMARY:ENTRETIEN TERRAIN
DESCRIPTION:Entretien Terrain sur le terrain de la Plée\nOrganisateur responsable: voir framadate
URL:https://arbl.fr/event/entretien-terrain-6/
LOCATION:Terrain de la Plée – Aéromodélisme\, Terrain de la Plée - Aéromodélisme\, Sainte Luce sur Loire\, Loire Atlantique\, 44980\, France
ORGANIZER;CN="ARBL":MAILTO:bureau-arbl@laposte.net
END:VEVENT
BEGIN:VEVENT
DTSTART;VALUE=DATE:20240525
DTEND;VALUE=DATE:20240526
DTSTAMP:20260423T182118
CREATED:20240523T135039Z
LAST-MODIFIED:20240523T135039Z
UID:4170-1716595200-1716681599@arbl.fr
SUMMARY:INDISPONIBILITE ETANG DU PLESSIS
DESCRIPTION:L’accès à l’étang du Plessis sera interdit de la fin de matinée jusqu’ au début de soirée\, samedi 25 mai \, en raison du spectacle de rue “Troie”\, organisé dans le cadre de la saison culturelle de  la ville de Sainte Luce. \nDirection Culture et Relations Internationales \n\n\n\n\n\n\n02 40 68 16 80 – 06 79 52 50 27\n\n\nhttp://www.sainte-luce-loire.com
URL:https://arbl.fr/event/indisponibilite-etang-du-plessis/
LOCATION:Plan d’eau du Plessis\, Plan d'eau du Plessis\, Sainte Luce sur Loire\, Loire Atlantique\, 44980\, France
END:VEVENT
BEGIN:VEVENT
DTSTART;TZID=Europe/Paris:20240525T090000
DTEND;TZID=Europe/Paris:20240525T120000
DTSTAMP:20260423T182118
CREATED:20240507T071610Z
LAST-MODIFIED:20240507T071852Z
UID:4141-1716627600-1716638400@arbl.fr
SUMMARY:ENTRETIEN TERRAIN
DESCRIPTION:Entretien Terrain sur le terrain de la Plée\nOrganisateur responsable: voir framadate
URL:https://arbl.fr/event/entretien-terrain-7/
LOCATION:Terrain de la Plée – Aéromodélisme\, Terrain de la Plée - Aéromodélisme\, Sainte Luce sur Loire\, Loire Atlantique\, 44980\, France
ORGANIZER;CN="ARBL":MAILTO:bureau-arbl@laposte.net
END:VEVENT
END:VCALENDAR