BEGIN:VCALENDAR
VERSION:2.0
PRODID:-//arbl.fr - ECPv6.15.20//NONSGML v1.0//EN
CALSCALE:GREGORIAN
METHOD:PUBLISH
X-WR-CALNAME:arbl.fr
X-ORIGINAL-URL:https://arbl.fr
X-WR-CALDESC:Évènements pour arbl.fr
REFRESH-INTERVAL;VALUE=DURATION:PT1H
X-Robots-Tag:noindex
X-PUBLISHED-TTL:PT1H
BEGIN:VTIMEZONE
TZID:Europe/Paris
BEGIN:DAYLIGHT
TZOFFSETFROM:+0100
TZOFFSETTO:+0200
TZNAME:CEST
DTSTART:20230326T010000
END:DAYLIGHT
BEGIN:STANDARD
TZOFFSETFROM:+0200
TZOFFSETTO:+0100
TZNAME:CET
DTSTART:20231029T010000
END:STANDARD
BEGIN:DAYLIGHT
TZOFFSETFROM:+0100
TZOFFSETTO:+0200
TZNAME:CEST
DTSTART:20240331T010000
END:DAYLIGHT
BEGIN:STANDARD
TZOFFSETFROM:+0200
TZOFFSETTO:+0100
TZNAME:CET
DTSTART:20241027T010000
END:STANDARD
BEGIN:DAYLIGHT
TZOFFSETFROM:+0100
TZOFFSETTO:+0200
TZNAME:CEST
DTSTART:20250330T010000
END:DAYLIGHT
BEGIN:STANDARD
TZOFFSETFROM:+0200
TZOFFSETTO:+0100
TZNAME:CET
DTSTART:20251026T010000
END:STANDARD
END:VTIMEZONE
BEGIN:VEVENT
DTSTART;VALUE=DATE:20240713
DTEND;VALUE=DATE:20240824
DTSTAMP:20260423T134132
CREATED:20240705T082323Z
LAST-MODIFIED:20240705T083410Z
UID:4204-1720828800-1724457599@arbl.fr
SUMMARY:Salle du Patisseau (dite Crédit Agricole) fermée du 13 juillet au 23 août
DESCRIPTION:Je vous informe que les salles de sport ne seront pas accessibles pour vos activités du 13 juillet au 23 août. La reprise des activités sera effective à compter du samedi 24 août pour le modélisme.
URL:https://arbl.fr/event/salle-du-patisseau-dite-credit-agricole-fermee-du-13-juillet-au-18-aout/
LOCATION:Complexe sportif du Patisseau\, complexe sportif du patisseau\, Ste Luce sur Loire\, 44980\, France
END:VEVENT
END:VCALENDAR