BEGIN:VCALENDAR
VERSION:2.0
PRODID:-//arbl.fr - ECPv6.15.20//NONSGML v1.0//EN
CALSCALE:GREGORIAN
METHOD:PUBLISH
X-ORIGINAL-URL:https://arbl.fr
X-WR-CALDESC:Évènements pour arbl.fr
REFRESH-INTERVAL;VALUE=DURATION:PT1H
X-Robots-Tag:noindex
X-PUBLISHED-TTL:PT1H
BEGIN:VTIMEZONE
TZID:Europe/Paris
BEGIN:DAYLIGHT
TZOFFSETFROM:+0100
TZOFFSETTO:+0200
TZNAME:CEST
DTSTART:20230326T010000
END:DAYLIGHT
BEGIN:STANDARD
TZOFFSETFROM:+0200
TZOFFSETTO:+0100
TZNAME:CET
DTSTART:20231029T010000
END:STANDARD
BEGIN:DAYLIGHT
TZOFFSETFROM:+0100
TZOFFSETTO:+0200
TZNAME:CEST
DTSTART:20240331T010000
END:DAYLIGHT
BEGIN:STANDARD
TZOFFSETFROM:+0200
TZOFFSETTO:+0100
TZNAME:CET
DTSTART:20241027T010000
END:STANDARD
BEGIN:DAYLIGHT
TZOFFSETFROM:+0100
TZOFFSETTO:+0200
TZNAME:CEST
DTSTART:20250330T010000
END:DAYLIGHT
BEGIN:STANDARD
TZOFFSETFROM:+0200
TZOFFSETTO:+0100
TZNAME:CET
DTSTART:20251026T010000
END:STANDARD
END:VTIMEZONE
BEGIN:VEVENT
DTSTART;TZID=Europe/Paris:20240907T090000
DTEND;TZID=Europe/Paris:20240907T120000
DTSTAMP:20260423T120335
CREATED:20240627T121922Z
LAST-MODIFIED:20240627T121922Z
UID:4196-1725699600-1725710400@arbl.fr
SUMMARY:Journée des associations
DESCRIPTION:Journée des associations \nParking Ligéria derrière la salle de spectacle : rencontre des associations pour échanges avec les membres sur les activités proposées et inscriptions éventuelles
URL:https://arbl.fr/event/journee-des-associations/
LOCATION:Parking Ligéria
END:VEVENT
BEGIN:VEVENT
DTSTART;TZID=Europe/Paris:20240921T140000
DTEND;TZID=Europe/Paris:20240921T170000
DTSTAMP:20260423T120335
CREATED:20240627T122238Z
LAST-MODIFIED:20240627T122238Z
UID:4198-1726927200-1726938000@arbl.fr
SUMMARY:Assemblée Générale + Conseil d'Administration de l'association ARBL
DESCRIPTION:Assemblée Générale annuelle + Conseil d’Administration de l’association ARBL
URL:https://arbl.fr/event/assemblee-generale-conseil-dadministration-de-lassociation-arbl/
LOCATION:Salle Louis Dagorne\, rue Jean Moulin\, Sainte Luce sur Loire\, 44980\, France
ORGANIZER;CN="ARBL":MAILTO:bureau-arbl@laposte.net
END:VEVENT
END:VCALENDAR