BEGIN:VCALENDAR
VERSION:2.0
PRODID:-//arbl.fr - ECPv6.15.20//NONSGML v1.0//EN
CALSCALE:GREGORIAN
METHOD:PUBLISH
X-WR-CALNAME:arbl.fr
X-ORIGINAL-URL:https://arbl.fr
X-WR-CALDESC:Évènements pour arbl.fr
REFRESH-INTERVAL;VALUE=DURATION:PT1H
X-Robots-Tag:noindex
X-PUBLISHED-TTL:PT1H
BEGIN:VTIMEZONE
TZID:Europe/Paris
BEGIN:DAYLIGHT
TZOFFSETFROM:+0100
TZOFFSETTO:+0200
TZNAME:CEST
DTSTART:20240331T010000
END:DAYLIGHT
BEGIN:STANDARD
TZOFFSETFROM:+0200
TZOFFSETTO:+0100
TZNAME:CET
DTSTART:20241027T010000
END:STANDARD
BEGIN:DAYLIGHT
TZOFFSETFROM:+0100
TZOFFSETTO:+0200
TZNAME:CEST
DTSTART:20250330T010000
END:DAYLIGHT
BEGIN:STANDARD
TZOFFSETFROM:+0200
TZOFFSETTO:+0100
TZNAME:CET
DTSTART:20251026T010000
END:STANDARD
BEGIN:DAYLIGHT
TZOFFSETFROM:+0100
TZOFFSETTO:+0200
TZNAME:CEST
DTSTART:20260329T010000
END:DAYLIGHT
BEGIN:STANDARD
TZOFFSETFROM:+0200
TZOFFSETTO:+0100
TZNAME:CET
DTSTART:20261025T010000
END:STANDARD
END:VTIMEZONE
BEGIN:VEVENT
DTSTART;TZID=Europe/Paris:20250202T130000
DTEND;TZID=Europe/Paris:20250202T190000
DTSTAMP:20260419T185356
CREATED:20240627T122535Z
LAST-MODIFIED:20251216T151351Z
UID:4200-1738501200-1738522800@arbl.fr
SUMMARY:Démonstration Indoor salle de la Minais
DESCRIPTION:Indoor salle de la Minais:\n\nAvions\, chticat et autres modèles RC en démonstration
URL:https://arbl.fr/event/demonstration-indoor-salle-de-la-minais/
LOCATION:Halle sportive La Minais\, 40 Rue Olympe de Gouges\, 44980 Sainte Luce sur Loire\, 44980\, France
ORGANIZER;CN="ARBL":MAILTO:bureau-arbl@laposte.net
END:VEVENT
END:VCALENDAR